BEGIN:VCALENDAR
VERSION:2.0
PRODID:-//wp-events-plugin.com//7.2.2.1//EN
BEGIN:VEVENT
UID:44@kosmetyczni.pl
DTSTART;VALUE=DATE:20260217
DTEND;VALUE=DATE:20260218
DTSTAMP:20260123T172555Z
URL:https://kosmetyczni.pl/wydarzenia/save-the-date-okragly-stol-nadzor-pr
 zemysl/
SUMMARY:SAVE THE DATE Okrągły stół: Nadzór - Przemysł
DESCRIPTION:
ATTACH;FMTTYPE=image/jpeg:https://kosmetyczni.pl/wp-content/uploads/2026/0
 1/17.02.2026_okragly-stol.jpg
CATEGORIES:Konferencja
LOCATION:https://okraglystol26.konfeo.com/pl/groups
END:VEVENT
END:VCALENDAR