BEGIN:VCALENDAR
VERSION:2.0
PRODID:-//wp-events-plugin.com//7.2.2.1//EN
BEGIN:VEVENT
UID:73@kosmetyczni.pl
DTSTART:20260526T080000Z
DTEND:20260527T120000Z
DTSTAMP:20260415T074227Z
URL:https://kosmetyczni.pl/wydarzenia/ppwr-bez-paniki-fakty-obowiazki-i-mi
 ty/
SUMMARY:PPWR bez paniki. Fakty\, obowiązki i mity.
DESCRIPTION:Branża kosmetyczna stoi dziś w obliczu jednej z najbardziej w
 ymagających regulacji Europejskiego Zielonego Ładu – rozporządzenia P
 PWR. Regulacja ta obejmuje cały cykl życia opakowań i wprowadza fundame
 ntalne zmiany w ich projektowaniu\, składzie i oznakowaniu\, a także gos
 podarowaniu odpadami. Część tych wymagań będzie stosowana już od 12 
 sierpnia 2026 r. Na rynku panuje zaś ogromna niepewność co do zakresu t
 ych obowiązków\, ich interpretacji i stosowania w praktyce… \n\nSierp
 niowa data to pierwszy moment weryfikacji gotowości rynku. Zanim przyjdz
 ie się nam wszystkim zmierzyć z nowymi wymogami\, 26 i 27 maja br. Kos
 metyczni zapraszają na konferencję „PPWR bez paniki”. Udział w tym
  wydarzeniu pozwoli branży przygotować się do sierpniowej daty w sposó
 b zgodny z przepisami\, oparty na faktach i możliwy do wdrożenia w prakt
 yce.\n\nREJETRACJA [klik]
ATTACH;FMTTYPE=image/jpeg:https://kosmetyczni.pl/wp-content/uploads/2026/0
 4/760x360px.jpg
CATEGORIES:Konferencja
END:VEVENT
END:VCALENDAR