BEGIN:VCALENDAR
VERSION:2.0
PRODID:-//wp-events-plugin.com//7.2.2.1//EN
BEGIN:VEVENT
UID:17@kosmetyczni.pl
DTSTART:20250611T070000Z
DTEND:20250613T160000Z
DTSTAMP:20250312T110318Z
URL:https://kosmetyczni.pl/wydarzenia/pci-days-2025/
SUMMARY:PCI Days 2025
DESCRIPTION:Z przyjemnością zapraszamy na VI edycję Pharma & Cosmetic In
 dustry Trade Fair\, które odbędą się w dniach 11–13 czerwca 2025 r. 
 w warszawskim EXPO XXI
ATTACH;FMTTYPE=image/jpeg:https://kosmetyczni.pl/wp-content/uploads/2025/0
 3/PCI-Days.png
CATEGORIES:Konferencja,Spotkanie integracyjno-biznesowe
LOCATION:https://rejestracja.pcidays.pl/
END:VEVENT
END:VCALENDAR