BEGIN:VCALENDAR
VERSION:2.0
PRODID:-//wp-events-plugin.com//7.2.2.1//EN
BEGIN:VEVENT
UID:56@kosmetyczni.pl
DTSTART:20260519T220000Z
DTEND:20260519T220000Z
DTSTAMP:20260211T132754Z
URL:https://kosmetyczni.pl/wydarzenia/ii-miedzynarodowa-konferencja-przemy
 slu-kosmetycznego%e2%94%8220-02-026%e2%94%82warszawa/
SUMMARY:II Międzynarodowa Konferencja Przemysłu Kosmetycznego│20.05.202
 6 │ Warszawa
DESCRIPTION:
ATTACH;FMTTYPE=image/jpeg:https://kosmetyczni.pl/wp-content/uploads/2026/0
 2/PZPK-Patron.png
CATEGORIES:Konferencja
LOCATION:https://www.chemiaibiznes.com.pl/konferencje/miedzynarodowa-konfer
 encja-przemyslu-kosmetycznego/2026-2
END:VEVENT
END:VCALENDAR