BEGIN:VCALENDAR
VERSION:2.0
PRODID:-//wp-events-plugin.com//7.2.2.1//EN
BEGIN:VEVENT
UID:14@kosmetyczni.pl
DTSTART:20241212T150000Z
DTEND:20241212T200000Z
DTSTAMP:20241022T075020Z
URL:https://kosmetyczni.pl/wydarzenia/gwiazdka-kosmetycznych/
SUMMARY:Gwiazdka kosmetycznych
DESCRIPTION:
ATTACH;FMTTYPE=image/jpeg:https://kosmetyczni.pl/wp-content/uploads/2024/1
 0/Spotkanie-gwiazdkowe-2024.jpg
CATEGORIES:Spotkanie integracyjno-biznesowe
LOCATION:https://kulturawysoka.com/
END:VEVENT
END:VCALENDAR