BEGIN:VCALENDAR
VERSION:2.0
PRODID:-//wp-events-plugin.com//7.2.2.1//EN
BEGIN:VEVENT
UID:10@kosmetyczni.pl
DTSTART:20241127T080000Z
DTEND:20241127T100000Z
DTSTAMP:20241014T101513Z
URL:https://kosmetyczni.pl/wydarzenia/grupa-claims/
SUMMARY:Grupa Claims
DESCRIPTION:
ATTACH;FMTTYPE=image/jpeg:https://kosmetyczni.pl/wp-content/uploads/2024/0
 3/default-img.jpg
CATEGORIES:Grupa robocza
END:VEVENT
END:VCALENDAR