BEGIN:VCALENDAR
VERSION:2.0
PRODID:-//wp-events-plugin.com//7.2.2.1//EN
BEGIN:VEVENT
UID:43@kosmetyczni.pl
DTSTART:20260114T100000Z
DTEND:20260114T113000Z
DTSTAMP:20260107T110305Z
URL:https://kosmetyczni.pl/wydarzenia/czy-kosmetyczni-sa-gotowi-na-eudr/
SUMMARY:Czy Kosmetyczni są gotowi na EUDR?
DESCRIPTION: Jakie obowiązki nakłada rozporządzenie EUDR na producentó
 w i importerów produktów kosmetycznych? Jakie surowce\, opakowania i mat
 eriały pomocnicze podlegają regulacji? Kiedy obowiązuje nas procedura d
 ue diligence? A kiedy producent kosmetyków staje się traderem? Jeśli za
 dają sobie któreś z tych pytań\, serdecznie zapraszamy na pierwszy w 
 nowym roku bezpłatny webinar dla firm członkowskich\, organizowany we ws
 półpracy z CRIDO. Spotkanie odbędzie się 14 stycznia 2026 r. w godz.
  12:00–13:30.\nPodczas webinaru eksperci CRIDO\, Marta Kolbusz-Nowak i
  Iwona Jakubiak\, przedstawią obowiązki producentów branży kosmetyczn
 ej wynikające z Rozporządzenia (UE) 2023/1115 oraz jego najnowszej wers
 ji\, przyjętej w grudniu 2025 r.
ATTACH;FMTTYPE=image/jpeg:https://kosmetyczni.pl/wp-content/uploads/2026/0
 1/Czy-kosmetyczni-sa-gotowi-na-EUDR.png
CATEGORIES:Webinar
END:VEVENT
END:VCALENDAR