BEGIN:VCALENDAR
VERSION:2.0
PRODID:-//wp-events-plugin.com//7.2.2.1//EN
BEGIN:VEVENT
UID:23@kosmetyczni.pl
DTSTART:20250617T080000Z
DTEND:20250617T100000Z
DTSTAMP:20250617T071522Z
URL:https://kosmetyczni.pl/wydarzenia/46-grupa-robocza-skladnik/
SUMMARY:46. Grupa Robocza Składnik
DESCRIPTION:
ATTACH;FMTTYPE=image/jpeg:https://kosmetyczni.pl/wp-content/uploads/2024/0
 3/default-img.jpg
CATEGORIES:Grupa robocza
END:VEVENT
END:VCALENDAR